BEGIN:VCALENDAR
VERSION:2.0
PRODID:-//Results - ECPv4.6.20.1//NONSGML v1.0//EN
CALSCALE:GREGORIAN
METHOD:PUBLISH
X-WR-CALNAME:Results
X-ORIGINAL-URL:https://www.resultsco.org.uk
X-WR-CALDESC:Events for Results
BEGIN:VEVENT
DTSTART;TZID=Asia/Kolkata:20211204T090000
DTEND;TZID=Asia/Kolkata:20211204T160000
DTSTAMP:20260422T182119
CREATED:20211129T084218Z
LAST-MODIFIED:20211129T084219Z
UID:9326-1638608400-1638633600@www.resultsco.org.uk
SUMMARY:Open day
DESCRIPTION:
URL:https://www.resultsco.org.uk/event/open-day-115/
CATEGORIES:Open day
ATTACH;FMTTYPE=image/jpeg:https://www.resultsco.org.uk/wp-content/uploads/2020/06/Post-148.jpg
END:VEVENT
END:VCALENDAR