BEGIN:VCALENDAR
VERSION:2.0
PRODID:-//Results - ECPv4.6.20.1//NONSGML v1.0//EN
CALSCALE:GREGORIAN
METHOD:PUBLISH
X-WR-CALNAME:Results
X-ORIGINAL-URL:https://www.resultsco.org.uk
X-WR-CALDESC:Events for Results
BEGIN:VEVENT
DTSTART;TZID=Asia/Kolkata:20211120T090000
DTEND;TZID=Asia/Kolkata:20211120T160000
DTSTAMP:20260422T194258
CREATED:20211115T070720Z
LAST-MODIFIED:20211115T070720Z
UID:9317-1637398800-1637424000@www.resultsco.org.uk
SUMMARY:Open day
DESCRIPTION:
URL:https://www.resultsco.org.uk/event/open-day-113/
CATEGORIES:Open day
ATTACH;FMTTYPE=image/jpeg:https://www.resultsco.org.uk/wp-content/uploads/2020/05/Post-145.jpg
END:VEVENT
END:VCALENDAR