BEGIN:VCALENDAR
VERSION:2.0
PRODID:-//Results - ECPv4.6.20.1//NONSGML v1.0//EN
CALSCALE:GREGORIAN
METHOD:PUBLISH
X-WR-CALNAME:Results
X-ORIGINAL-URL:https://www.resultsco.org.uk
X-WR-CALDESC:Events for Results
BEGIN:VEVENT
DTSTART;TZID=Asia/Kolkata:20211113T090000
DTEND;TZID=Asia/Kolkata:20211113T160000
DTSTAMP:20260422T195903
CREATED:20211108T082925Z
LAST-MODIFIED:20211108T082925Z
UID:9314-1636794000-1636819200@www.resultsco.org.uk
SUMMARY:Open day
DESCRIPTION:
URL:https://www.resultsco.org.uk/event/open-day-112/
CATEGORIES:Open day
ATTACH;FMTTYPE=image/jpeg:https://www.resultsco.org.uk/wp-content/uploads/2020/06/Post-148.jpg
END:VEVENT
END:VCALENDAR