BEGIN:VCALENDAR
VERSION:2.0
PRODID:-//Results - ECPv4.6.20.1//NONSGML v1.0//EN
CALSCALE:GREGORIAN
METHOD:PUBLISH
X-WR-CALNAME:Results
X-ORIGINAL-URL:https://www.resultsco.org.uk
X-WR-CALDESC:Events for Results
BEGIN:VEVENT
DTSTART;TZID=Asia/Kolkata:20210327T090000
DTEND;TZID=Asia/Kolkata:20210327T160000
DTSTAMP:20260423T070019
CREATED:20210322T072657Z
LAST-MODIFIED:20210322T072733Z
UID:9179-1616835600-1616860800@www.resultsco.org.uk
SUMMARY:Open day
DESCRIPTION:
URL:https://www.resultsco.org.uk/event/open-day-79/
CATEGORIES:Open day
ATTACH;FMTTYPE=image/jpeg:https://www.resultsco.org.uk/wp-content/uploads/2020/07/Post-154.jpg
END:VEVENT
END:VCALENDAR