BEGIN:VCALENDAR
VERSION:2.0
PRODID:-//Results - ECPv4.6.20.1//NONSGML v1.0//EN
CALSCALE:GREGORIAN
METHOD:PUBLISH
X-WR-CALNAME:Results
X-ORIGINAL-URL:https://www.resultsco.org.uk
X-WR-CALDESC:Events for Results
BEGIN:VEVENT
DTSTART;TZID=Asia/Kolkata:20210306T090000
DTEND;TZID=Asia/Kolkata:20210306T160000
DTSTAMP:20260423T065743
CREATED:20210304T072722Z
LAST-MODIFIED:20210304T072723Z
UID:9171-1615021200-1615046400@www.resultsco.org.uk
SUMMARY:Open day
DESCRIPTION:
URL:https://www.resultsco.org.uk/event/open-day-76/
CATEGORIES:Open day
ATTACH;FMTTYPE=image/jpeg:https://www.resultsco.org.uk/wp-content/uploads/2020/05/Post-143.jpg
END:VEVENT
END:VCALENDAR