BEGIN:VCALENDAR
VERSION:2.0
PRODID:-//Results - ECPv4.6.20.1//NONSGML v1.0//EN
CALSCALE:GREGORIAN
METHOD:PUBLISH
X-WR-CALNAME:Results
X-ORIGINAL-URL:https://www.resultsco.org.uk
X-WR-CALDESC:Events for Results
BEGIN:VEVENT
DTSTART;TZID=Asia/Kolkata:20200620T090000
DTEND;TZID=Asia/Kolkata:20200620T160000
DTSTAMP:20260423T203154
CREATED:20200615T130905Z
LAST-MODIFIED:20200615T130905Z
UID:8579-1592643600-1592668800@www.resultsco.org.uk
SUMMARY:Open Day
DESCRIPTION:
URL:https://www.resultsco.org.uk/event/open-day-43/
CATEGORIES:Open day
ATTACH;FMTTYPE=image/jpeg:https://www.resultsco.org.uk/wp-content/uploads/2020/06/Post-150.jpg
END:VEVENT
END:VCALENDAR