BEGIN:VCALENDAR
VERSION:2.0
PRODID:-//Results - ECPv4.6.20.1//NONSGML v1.0//EN
CALSCALE:GREGORIAN
METHOD:PUBLISH
X-WR-CALNAME:Results
X-ORIGINAL-URL:https://www.resultsco.org.uk
X-WR-CALDESC:Events for Results
BEGIN:VEVENT
DTSTART;TZID=Asia/Kolkata:20200314T090000
DTEND;TZID=Asia/Kolkata:20200314T160000
DTSTAMP:20260424T004902
CREATED:20200312T111932Z
LAST-MODIFIED:20200312T111953Z
UID:8419-1584176400-1584201600@www.resultsco.org.uk
SUMMARY:Open Day
DESCRIPTION:
URL:https://www.resultsco.org.uk/event/open-day-29/
CATEGORIES:Open day
END:VEVENT
END:VCALENDAR