BEGIN:VCALENDAR
VERSION:2.0
PRODID:-//Results - ECPv4.6.20.1//NONSGML v1.0//EN
CALSCALE:GREGORIAN
METHOD:PUBLISH
X-WR-CALNAME:Results
X-ORIGINAL-URL:https://www.resultsco.org.uk
X-WR-CALDESC:Events for Results
BEGIN:VEVENT
DTSTART;TZID=Asia/Kolkata:20200229T090000
DTEND;TZID=Asia/Kolkata:20200229T160000
DTSTAMP:20260424T021218
CREATED:20200228T115234Z
LAST-MODIFIED:20200228T115235Z
UID:8411-1582966800-1582992000@www.resultsco.org.uk
SUMMARY:Open Day
DESCRIPTION:
URL:https://www.resultsco.org.uk/event/open-day-27/
CATEGORIES:Open day
END:VEVENT
END:VCALENDAR