BEGIN:VCALENDAR
VERSION:2.0
PRODID:-//Results - ECPv4.6.20.1//NONSGML v1.0//EN
CALSCALE:GREGORIAN
METHOD:PUBLISH
X-WR-CALNAME:Results
X-ORIGINAL-URL:https://www.resultsco.org.uk
X-WR-CALDESC:Events for Results
BEGIN:VEVENT
DTSTART;TZID=Asia/Kolkata:20200208T090000
DTEND;TZID=Asia/Kolkata:20200208T160000
DTSTAMP:20260424T021116
CREATED:20200206T140554Z
LAST-MODIFIED:20200206T140555Z
UID:8393-1581152400-1581177600@www.resultsco.org.uk
SUMMARY:Open Day
DESCRIPTION:
URL:https://www.resultsco.org.uk/event/open-day-24/
CATEGORIES:Open day
END:VEVENT
END:VCALENDAR