BEGIN:VCALENDAR
VERSION:2.0
PRODID:-//Results - ECPv4.6.20.1//NONSGML v1.0//EN
CALSCALE:GREGORIAN
METHOD:PUBLISH
X-WR-CALNAME:Results
X-ORIGINAL-URL:https://www.resultsco.org.uk
X-WR-CALDESC:Events for Results
BEGIN:VEVENT
DTSTART;TZID=Asia/Kolkata:20191228T090000
DTEND;TZID=Asia/Kolkata:20191228T160000
DTSTAMP:20260424T045826
CREATED:20191223T062258Z
LAST-MODIFIED:20191223T062455Z
UID:8367-1577523600-1577548800@www.resultsco.org.uk
SUMMARY:Open Day
DESCRIPTION:
URL:https://www.resultsco.org.uk/event/open-day-18/
CATEGORIES:Open day
ATTACH;FMTTYPE=image/jpeg:https://www.resultsco.org.uk/wp-content/uploads/2019/12/Post-109.jpg
END:VEVENT
END:VCALENDAR