BEGIN:VCALENDAR
VERSION:2.0
PRODID:-//Results - ECPv4.6.20.1//NONSGML v1.0//EN
CALSCALE:GREGORIAN
METHOD:PUBLISH
X-WR-CALNAME:Results
X-ORIGINAL-URL:https://www.resultsco.org.uk
X-WR-CALDESC:Events for Results
BEGIN:VEVENT
DTSTART;TZID=Asia/Kolkata:20191207T090000
DTEND;TZID=Asia/Kolkata:20191207T160000
DTSTAMP:20260424T045734
CREATED:20191203T085929Z
LAST-MODIFIED:20191203T085929Z
UID:8337-1575709200-1575734400@www.resultsco.org.uk
SUMMARY:Open day
DESCRIPTION:
URL:https://www.resultsco.org.uk/event/open-day-15/
CATEGORIES:Open day
ATTACH;FMTTYPE=image/jpeg:https://www.resultsco.org.uk/wp-content/uploads/2019/12/Post-106.jpg
END:VEVENT
END:VCALENDAR