BEGIN:VCALENDAR
VERSION:2.0
PRODID:-//Results - ECPv4.6.20.1//NONSGML v1.0//EN
CALSCALE:GREGORIAN
METHOD:PUBLISH
X-WR-CALNAME:Results
X-ORIGINAL-URL:https://www.resultsco.org.uk
X-WR-CALDESC:Events for Results
BEGIN:VEVENT
DTSTART;TZID=Asia/Kolkata:20191005T090000
DTEND;TZID=Asia/Kolkata:20191005T160000
DTSTAMP:20260425T154630
CREATED:20191003T090709Z
LAST-MODIFIED:20191003T091422Z
UID:7811-1570266000-1570291200@www.resultsco.org.uk
SUMMARY:Open day
DESCRIPTION:
URL:https://www.resultsco.org.uk/event/open-day-6/
CATEGORIES:Open day
END:VEVENT
END:VCALENDAR